BEGIN:VCALENDAR
VERSION:2.0
PRODID:-//Great British UK Talent - Live - ECPv6.15.20//NONSGML v1.0//EN
CALSCALE:GREGORIAN
METHOD:PUBLISH
X-ORIGINAL-URL:https://greatbritishpresenters.co.uk
X-WR-CALDESC:Events for Great British UK Talent - Live
REFRESH-INTERVAL;VALUE=DURATION:PT1H
X-Robots-Tag:noindex
X-PUBLISHED-TTL:PT1H
BEGIN:VTIMEZONE
TZID:UTC
BEGIN:STANDARD
TZOFFSETFROM:+0000
TZOFFSETTO:+0000
TZNAME:UTC
DTSTART:20250101T000000
END:STANDARD
END:VTIMEZONE
BEGIN:VEVENT
DTSTART;VALUE=DATE:20260601
DTEND;VALUE=DATE:20260701
DTSTAMP:20260421T144322
CREATED:20221105T130648Z
LAST-MODIFIED:20250227T140742Z
UID:27867-1780272000-1782863999@greatbritishpresenters.co.uk
SUMMARY:Pride Month Speakers
DESCRIPTION:Why Celebrate Pride Month?\nPride Month\, celebrated every June\, promotes inclusivity for the LGBTQ+ community in society and the workplace. It provides a safe space to discuss LGBTQ+ issues\, foster allyship\, and highlight the importance of workplace inclusivity. By creating an equitable environment\, employers help employees feel valued\, leading to greater engagement and productivity. \nAn LGBTQ+ Pride Month Speaker can support this mission by educating staff on diverse identities\, challenging exclusionary behaviour\, encouraging open discussions\, and promoting allyship—which proven to reduce suicidal thoughts among LGBTQ+ individuals. \nFind an Inspirational LGBTQ+ Pride Month Speaker\nAt Great British Speakers\, we’ve worked hard to secure a team of professional equality and inclusion speakers who are often booked to give educational talks on the inclusivity of gender identity\, sexuality\, and LGBTQ+ rights. \nFeatured Speaker – Ben Smith | LGBTQ+ Mental Health Pride Month Speaker\n \n  \nMotivational speaker Ben Smith has delivered over 400 talks reaching nearly 100\,000 people since completing his 401 Challenge\, to raise money for the LGBTQ+ anti-bullying charity\, Stonewall.  His teaching includes healing through support\, achieving goals and\, above all\, proving that with happiness and a strong foundation\, anything is possible.  The 401 Foundation\, which was set up in response to Ben’s accomplishments undertaking The 401 Challenge\, offers grants to help communities and individuals build confidence and self-esteem\, and positively contribute to people’s mental well-being\, especially to those within the LGBTQ+ community. \n  \nSearch all of or Pride Month LGBTQ+ Speakers \n\n\n\n		\n		\n			\n				\n			\n			\n				\n			\n			\n				\n			\n			\n				\n			\n			\n				\n			\n			\n				\n			\n			\n				\n			\n			\n				\n			\n			\n				\n			\n		\n\n  \nListen to the Podcast!\n \nFind Chats with our Leading LGBTQ+ Speakers…\nWelcome to the Great British Speakers Podcast Series\, where we connect you with the UK’s top keynote speakers\, business leaders\, athletes\, mental health advocates\, and more. Each episode offers valuable insights and key takeaways\, highlighting the benefits of hiring a Great British Speaker for your next event. With diverse topics like mental health\, equality\, business\, and leadership\, there’s something for everyone. \n  \nRelated Articles\nMatt Lindley Pride Month Speaker Keynote ‘My Boss\, Changed My Life’ \n \n  \nMatt Ellison | Inspirational Transgender Pride Month Speaker \n \n  \nLinks to Resources: Pride Info and LGBTQ+ Support \n\nMake an Impact at Work – Come Out for LGBT in the Workplace\nHow Can You Celebrate Pride Month in Your Workplace\nWhat is Pride Month? Everything You Need to Know\nHow to Celebrate Pride in Your Workplace\nLGBT Foundation\n\n  \nWatch LGBTQ+ Anti-bullying Speaker Alex Holmes’ Tedx Talk \n \n\nHire Inspirational LGBTQ+ Pride Month Speakers\nIf you’d like to book inspirational Pride Month speakers for this year’s event\, then do get in touch with Jane Farnham and Steve Denison at 0044 1753 439289 or email bookings@greatbritishtalent.com \n 
URL:https://greatbritishpresenters.co.uk/event/pride-month-speakers/2026-06-01/
ATTACH;FMTTYPE=image/jpeg:https://greatbritish.b-cdn.net/wp-content//uploads/2022/11/Pride-month-speakers-UK-find-the-best-at-speaker-agent-Great-British-Speakers.jpg
END:VEVENT
BEGIN:VEVENT
DTSTART;VALUE=DATE:20260623
DTEND;VALUE=DATE:20260624
DTSTAMP:20260421T144322
CREATED:20221105T131659Z
LAST-MODIFIED:20250227T142647Z
UID:28445-1782172800-1782259199@greatbritishpresenters.co.uk
SUMMARY:International Women in Engineering Day
DESCRIPTION:Why Celebrate International Women in Engineering Day?\nAs of 2024\, women make up approximately 15.7% of the engineering workforce in the UK\, a slight decline from 16.5% in 2022. This represents a setback in efforts to increase gender diversity in the field. The drop is particularly concerning given that many women\, especially those aged 35 to 44\, are leaving the profession\, often due to work-life balance challenges\, lack of career progression\, and an unsupportive work environment. (stats: wes.org.uk/ engineers.scot) \nInternational Women in Engineering Day began in the UK in 2014 and is celebrated on June 23rd every year.  The occasion aims to promote their achievements\, highlight the importance of a diverse workforce\, and encourage the next generation of women into STEM careers. In combination with the Women’s Engineering Society\, International Women in Engineering Day seeks to unite government\, education\, and corporate engineering institutions to raise the profile of engineering as an exciting career choice for women. \n#INWED25\n\n		\n		\n			\n				\n			\n			\n				\n			\n			\n				\n			\n		\n\n\n\nFind an Inspirational Female Speaker for Women in Engineering Day\nAt Great British Speakers\, we are proud to work alongside a team of professional female STEM speakers. Engineering companies and educational establishments often book these speakers to discuss the benefits of gender equality in the industry and inspire the next generation of women in STEM. \nOur female STEM speakers can help by;\n– Mentoring young women who are looking to join the industry \n– Encouraging women to apply for leadership positions in STEM \n– Promoting the range of careers available\, including electrical engineering\, structural engineering and statistician \n– Showcasing positive STEM role models and their successes \n  \nSearch all of our STEM speakers\n\n\nFeatured Speaker – Ozak Esu\n \nOzak Esu is a multi-award-winning professional electronic and electrical engineer. Ozak is devoted to STEM outreach and volunteering initiatives that promote equality\, diversity\, and inclusion. This includes tutoring\, mentoring\, creating content for lectures and delivering public speeches at events like The Alan Turing Institute Gamechangers for STEM and The Better Future Tour in partnership with Shell UK.  She also received two prestigious awards from the Institution of Engineering and Technology (IET); the IET Mike Sargeant Career Achievement Medal\, and the 2017 IET Young Woman Engineer of the Year award. \n  \nRelated Articles\nhttps://greatbritishspeakers.co.uk/news/educational-female-stem-speakers/ \nhttps://greatbritishspeakers.co.uk/news/women-engineering-day-roma-agrawal/ \n  \nListen to the Podcast!\n \nWelcome to the Great British Speakers Podcast Series\, where we connect you with the UK’s top keynote speakers\, business leaders\, athletes\, mental health advocates\, and more. Each episode offers valuable insights and key takeaways\, highlighting the benefits of hiring a Great British Speaker for your next event. With diverse topics like mental health\, equality\, business\, and leadership\, there’s something for everyone. \n  \nHire an International Women in Engineering Day Speaker\nIf you’d like to find an inspirational female speaker for International Women in Engineering Day then do get in touch with Jane Farnham and Steve Denison at 0044 1753 439289 or email bookings@greatbritishtalent.com
URL:https://greatbritishpresenters.co.uk/event/women-in-engineering/2026-06-23/
ATTACH;FMTTYPE=image/jpeg:https://greatbritish.b-cdn.net/wp-content//uploads/2022/11/International-Women-in-Engineering-Day-speakers-UK-find-the-best-at-speaker-agent-Great-British-Speakers.jpg
END:VEVENT
END:VCALENDAR