BEGIN:VCALENDAR
VERSION:2.0
PRODID:-//Great British UK Talent - Live - ECPv6.15.20//NONSGML v1.0//EN
CALSCALE:GREGORIAN
METHOD:PUBLISH
X-ORIGINAL-URL:https://greatbritishpresenters.co.uk
X-WR-CALDESC:Events for Great British UK Talent - Live
REFRESH-INTERVAL;VALUE=DURATION:PT1H
X-Robots-Tag:noindex
X-PUBLISHED-TTL:PT1H
BEGIN:VTIMEZONE
TZID:UTC
BEGIN:STANDARD
TZOFFSETFROM:+0000
TZOFFSETTO:+0000
TZNAME:UTC
DTSTART:20250101T000000
END:STANDARD
END:VTIMEZONE
BEGIN:VEVENT
DTSTART;VALUE=DATE:20260204
DTEND;VALUE=DATE:20260205
DTSTAMP:20260421T130033
CREATED:20221105T112532Z
LAST-MODIFIED:20240415T183816Z
UID:24812-1770163200-1770249599@greatbritishpresenters.co.uk
SUMMARY:World Cancer Day at GREAT BRITISH SPEAKERS
DESCRIPTION:Search for World Cancer Day speakers here\nWhy Acknowledge World Cancer Day?\nCreated in 2000\, World Cancer Day is held every 4th February and aims to unite the world in raising awareness\, improving education and sourcing cures to all cancers\, as well as ensuring live-saving cancer treatment and care is accessible to all. \nSince its start\, World Cancer Day has covered many themes including care\, positive mindsets\, debunking myths\, diet and activity\, prevention and\, above all else\, communication. \nWorld Cancer Day Facts!\n\n10 million people die from cancer every year\n1/3 of cancer cases can be prevented\, and another 1/3 can be treated if found early\nUp to 27% of cancers are related to lifestyle factors including smoking\nThe estimated global cost of cancer is to be £974 billion or $1.16 trillion\nHalf the world’s population lacks access to full cancer health services\n\nFind Inspirational World Cancer Day Speakers\nAt Great British Speakers\, we’ve worked hard to secure a team of professional cancer awareness and health experts\, who all have personal reasons as to why cancer awareness is an important topic for them. Between them\, they highlight ways you can reduce your risk of cancer and how to catch the signs early. \nFeatured Speaker – Bridgid Nzekwu | World Cancer Day Speakers\nAfter battling cancer twice\, reporter Bridgid Nzekwu is an advocate for physical and mental health and wellbeing. Shortly after leaving school\, she was diagnosed with Hodgkin’s Lymphoma and went through gruelling radiotherapy before being given a clean bill of health. Then in 2012 she was told that a benign lump in her left breast had developed into a malignant tumour. Poignantly\, it seems the cause of the cancer was the high dose of radiation she had when she was younger\, and because of his high does\, it meant she was unable to have anymore and so opted to have her breast removed. But once the doctors told her she had a 25% chance of the cancer returning in the other breast\, she opted for a double mastectomy. Through her own experience\, Bridgit is a speaker who can impart wisdom and truly sympathise with any audience. \n \nWorld Cancer Day Speakers | Similar Speakers and Blogs\n\nClive Branson\nDr Brooke Vandermolen\nSimon Thomas\nHealth and Wellness Speakers\nOvercoming Adversity – A Chat With Clive Branson\nCancer Awareness Speakers: Health Experts & Survivors \n\nLinks to Resources for Cancer Support\n\nWorld Cancer Day\nCancer Research – Coping with Cancer\nMacmillan – Cancer Information and Support\nWork and Cancer\nMacmillan at Work – Employers \nCancer Research – Cancer Awareness in the Workplace\nCancer in the Workplace\nWorking with Cancer\n\nHire inspirational World Cancer Day Speakers\nIf you’re holding an event and want to find the best World Cancer Day speakers\, or simply want to educate your staff on the symptoms\, treatment and effects of cancer within the workplace\, then get in touch with us\, as we have an array of experts just waiting to share their story. Contact Great British Speakers Jane Farnham and Steve Denison at +44 1753 439 289 or email bookings@greatbritishtalent.com 
URL:https://greatbritishpresenters.co.uk/event/world-cancer-day-speakers/2026-02-04/
ATTACH;FMTTYPE=image/jpeg:https://greatbritish.b-cdn.net/wp-content//uploads/2022/11/World-Cancer-Day-speakers-UK-find-the-best-at-speaker-agent-Great-British-Speakers.jpg
END:VEVENT
END:VCALENDAR