BEGIN:VCALENDAR
VERSION:2.0
PRODID:-//Great British UK Talent - Live - ECPv6.15.20//NONSGML v1.0//EN
CALSCALE:GREGORIAN
METHOD:PUBLISH
X-WR-CALNAME:Great British UK Talent - Live
X-ORIGINAL-URL:https://greatbritishpresenters.co.uk
X-WR-CALDESC:Events for Great British UK Talent - Live
REFRESH-INTERVAL;VALUE=DURATION:PT1H
X-Robots-Tag:noindex
X-PUBLISHED-TTL:PT1H
BEGIN:VTIMEZONE
TZID:UTC
BEGIN:STANDARD
TZOFFSETFROM:+0000
TZOFFSETTO:+0000
TZNAME:UTC
DTSTART:20240101T000000
END:STANDARD
END:VTIMEZONE
BEGIN:VEVENT
DTSTART;VALUE=DATE:20250910
DTEND;VALUE=DATE:20250911
DTSTAMP:20260421T231023
CREATED:20221105T151740Z
LAST-MODIFIED:20250227T154715Z
UID:23041-1757462400-1757548799@greatbritishpresenters.co.uk
SUMMARY:World Suicide Prevention Day
DESCRIPTION:10th September is World Suicide Prevention Day\nWorld Suicide Prevention Day is significant as it offers a dedicated opportunity for businesses and communities to address critical issues and increase awareness of mental health challenges. It also creates a safe space for those struggling to openly discuss complex topics that are often overlooked in daily conversations. \nOver the last few years\, the importance of mental health\, especially within the workplace\, has increased. Many organisations are now implementing structures and activities to help colleagues improve their wellness\, particularly in the aftermath of COVID lockdowns and the current cost-of-living crisis\, which is a concern for many. \n  \nFind an Inspirational World Suicide Prevention Day Speaker\nAt Great British Speakers\, we’ve worked hard to secure a team of professional mental health speakers who all have personal\, heartfelt reasons why mental health is such a vital topic of conversation for them. Ultimately\, our mental health and wellness speakers all share the same goal: better mental health care. So\, if you’re running a Mental Health event for World Suicide Prevention Day\, the Great British Speakers team is here to help. \n  \nSearch all of our Mental Health Awareness Speakers\n  \nFeatured Speaker – Rob Hosking\nRob Hosking is an international TEDx motivational speaker and former front-line Police Officer renowned for his ability to inspire teams and leaders to adapt in fast-changing\, high-pressure environments. With years of experience facing unpredictable situations\, Rob has developed a deep understanding of how individuals and organisations can thrive amid uncertainty. His unique perspective stems from his time on the front lines of policing\, where no two situations were the same\, and quick thinking\, adaptability\, and resilience were essential. \n \n  \nListen to the Podcast!\n \nChats with some of the UK’s leading Mental Health Speakers…\nWelcome to the Great British Speakers Podcast Series\, where we connect you with the UK’s top keynote speakers\, business leaders\, athletes\, mental health advocates\, and more. Each episode offers valuable insights and key takeaways\, highlighting the benefits of hiring a Great British Speaker for your next event. With diverse topics like mental health\, equality\, business\, and leadership\, there’s something for everyone. \n  \nRelated Articles\n\nHow to Prevent Work/Life Burnout with Motivational Speaker Andrew Pain\nSupporting Women’s Health in the Workplace\nLosing Everything to Find Myself – Suicide Prevention Speaker – Steve Carr\nAntibullying Speakers \n\nhttps://greatbritishspeakers.co.uk/news/mens-mental-health-roman-kemp/ \n  \nHire a World Suicide Prevention Day Speaker\nIf you’re holding an event for World Suicide Prevention Day and would like to hire an inspirational Mental Health Speaker to share their story then do get in touch with us at Great British Speakers by emailing Jane Farnham and Steve Denison at bookings@greatbritishtalent.com\, or call +44 1753 439 289 to speak to a member of the team. \n\n\n\n\n		\n		\n			\n				\n			\n				\n				Women’s Health Speakers\n				\n			\n				\n			\n				\n				Men’s Health Speakers\n				\n			\n				\n			\n				\n				Hidden Disability Speakers\n				\n			\n				\n			\n				\n				Disability Awareness Speakers\n				\n			\n				\n			\n				\n				LGBTQ+ Pride Speakers
URL:https://greatbritishpresenters.co.uk/event/suicide-prevention/2025-09-10/
ATTACH;FMTTYPE=image/jpeg:https://greatbritish.b-cdn.net/wp-content//uploads/2022/11/World-Suicide-Prevention-Day-UK-find-the-best-speakers-at-speaker-agent-Great-British-Speakers.jpg
END:VEVENT
BEGIN:VEVENT
DTSTART;VALUE=DATE:20250915
DTEND;VALUE=DATE:20250922
DTSTAMP:20260421T231023
CREATED:20221105T152232Z
LAST-MODIFIED:20250302T111442Z
UID:17651-1757894400-1758499199@greatbritishpresenters.co.uk
SUMMARY:National Inclusion Week
DESCRIPTION:Founded by Inclusive Employers in 2013\, National Inclusion Week (NIW) is a yearly event dedicated to celebrating inclusion and taking action to build inclusive workplaces.\nThis year\, National Inclusion Week runs from September 15th to 21st\, 2025\, and covers many themes\, including gender equality\, disability equality\, racism and Black History\, and LGBTQ+ rights. The event highlights the importance of inclusion and allows employers to discuss Equality\, Diversity\, and Inclusion openly\, and work towards building strong\, diverse workplace teams. \n \n  \nSearch all of our Equality\, Diversity & Inclusion Speakers\n\n\nFind an Inspirational Equality\, Diversity & Inclusion Speaker \nAt Great British Speakers\, we’ve worked hard to secure a team of professional equality\, diversity\, and inclusion speakers who are often booked by businesses and schools to give educational talks on topics such as gender equality\, ethnic discrimination\, disability\, LGBTQ+ rights\, and religion. Through their own experiences\, our inclusion speakers share their motivational and often inspirational journeys. So\, if you’re running an event for National Inclusion Week\, the Great British Speakers team is here to help. \n  \nFeatured Speaker – Shola Kaye\nShola Kaye is an award-winning communication and leadership speaker who’s on a mission to help businesses create more diverse and inclusive teams by encouraging them to become more equal and empathic with minority backgrounds and groups. Shola helps organisations create an atmosphere of belonging where they can offer their employees skills and opportunities to communicate with power\, clarity\, and understanding. \n \n  \nListen to the Podcast!\n \nChats with some of the UK’s leading Diversity & Inclusion Speakers\, including Shola Kaye and Winston Ben Clements…\nWelcome to the Great British Speakers Podcast Series\, where we connect you with the UK’s top keynote speakers\, business leaders\, athletes\, mental health advocates\, and more. Each episode offers valuable insights and key takeaways\, highlighting the benefits of hiring a Great British Speaker for your next event. With diverse topics like mental health\, equality\, business\, and leadership\, there’s something for everyone. \n  \n \nHire National Inclusion Week Speaker\nIf you’re holding an event for National Inclusion Week and would like to hire an inspirational E\, D & I speaker to share their story or a professional keynote speaker to provide some key takeaways for your team to be more inclusive in the workplace\, then do get in touch with us at Great British Speakers by emailing Jane Farnham and Steve Denison at bookings@greatbritishtalent.com\, or call +44 1753 439 289 to speak to a member of the team.
URL:https://greatbritishpresenters.co.uk/event/national-inclusion-week-speakers/2025-09-15/
ATTACH;FMTTYPE=image/jpeg:https://greatbritish.b-cdn.net/wp-content//uploads/2022/11/National-Inclusion-Week-Speaker-find-the-best-top-at-agent-Great-British-Speakers.jpg
END:VEVENT
END:VCALENDAR