BEGIN:VCALENDAR
VERSION:2.0
PRODID:-//Great British UK Talent - Live - ECPv6.15.20//NONSGML v1.0//EN
CALSCALE:GREGORIAN
METHOD:PUBLISH
X-ORIGINAL-URL:https://greatbritishpresenters.co.uk
X-WR-CALDESC:Events for Great British UK Talent - Live
REFRESH-INTERVAL;VALUE=DURATION:PT1H
X-Robots-Tag:noindex
X-PUBLISHED-TTL:PT1H
BEGIN:VTIMEZONE
TZID:UTC
BEGIN:STANDARD
TZOFFSETFROM:+0000
TZOFFSETTO:+0000
TZNAME:UTC
DTSTART:20240101T000000
END:STANDARD
END:VTIMEZONE
BEGIN:VEVENT
DTSTART;VALUE=DATE:20250301
DTEND;VALUE=DATE:20250401
DTSTAMP:20260422T065409
CREATED:20221105T120752Z
LAST-MODIFIED:20250227T140649Z
UID:21992-1740787200-1743465599@greatbritishpresenters.co.uk
SUMMARY:Prostate Cancer Awareness Month
DESCRIPTION:In recognition of Prostate Cancer Awareness Month\, held every March\, our male health speakers are here to support and increase awareness about prostate cancer. The initiative\, organised by Prostate Cancer UK\, strives to educate men about the common signs and symptoms\, facilitate early diagnosis\, and potentially increase cure rates. \nFind Inspirational Prostate Cancer Awareness Month Speakers\nAt Great British Speakers\, we’ve worked hard to secure a team of professional prostate cancer awareness month speakers—health and wellness experts from all walks of life—from those living with the disease to cancer survivors and doctors—all of whom have personal\, heartfelt reasons why cancer awareness is such a vital topic of conversation for them.  So\, if you’re running an event and searching for  Prostate Cancer Awareness Month Speakers or any health and wellness event this year\, our cancer awareness speakers at Great British Speakers are here to help. \nSearch ALL of our Cancer Awareness Speakers\n  \nFeatured Prostate Cancer Awareness Month Speakers\nA medical doctor and award-winning TV host Dr David Bull\, has over 20 years of experience reporting on health matters in both Britain and America. With degrees in medicine\, science\, and surgery and experience working in some of the country’s top hospitals\, Dr Bull is frequently booked as a keynote speaker. \nDr Mark Porter is the BBC’s resident medical expert\, reporting on Radio 4 and The One Show. A journalist and a busy GP\, Dr Porter’s relaxed\, no-nonsense attitude has made him a popular keynote speaker and presenter for the medical industry. \nAfter 20 years in the military defence industry\, Clive Branson was diagnosed with Prostate Cancer and Motor Neurone Disease. Now a successful mental health speaker\, Clive shares his battles and how to live with our vulnerabilities successfully. \n  \n\n		\n		\n			\n				\n			\n			\n				\n			\n			\n				\n			\n		\n\n  \nListen to the Podcast!\n \nFind Chats with Cancer Awareness Speaker Clive Branson\, and many other wellness experts on our Podcast channel.\nWelcome to the Great British Speakers Podcast Series\, where we connect you with the UK’s top keynote speakers\, business leaders\, athletes\, mental health advocates\, and more. Each episode offers valuable insights and key takeaways\, highlighting the benefits of hiring a Great British Speaker for your next event. With diverse topics like mental health\, equality\, business\, and leadership\, there’s something for everyone. \n  \nHire an Inspirational Prostate Cancer Awareness Speaker\nIf you’re holding an event and trying to find Prostate Cancer Awareness Month Speakers and would like to hire an inspirational speaker to share their story\, or perhaps a medical expert to hold a talk on the signs and symptoms or how to cope with a diagnosis\, then do get in touch with us at Great British Speakers by emailing Jane Farnham and Steve Denison at  bookings@greatbritishtalent.com or call +44 1753 439 289 to speak to a member of the team
URL:https://greatbritishpresenters.co.uk/event/prostate-cancer-awareness-month-speakers/2025-03-01/
ATTACH;FMTTYPE=image/jpeg:https://greatbritish.b-cdn.net/wp-content//uploads/2022/11/Prostate-Cancer-Awareness-Month-Speakers-UK-find-the-best-speakers-at-speaker-agent-Great-British-Speakers.jpg
END:VEVENT
BEGIN:VEVENT
DTSTART;VALUE=DATE:20250308
DTEND;VALUE=DATE:20250309
DTSTAMP:20260422T065409
CREATED:20221105T122215Z
LAST-MODIFIED:20250226T145957Z
UID:17623-1741392000-1741478399@greatbritishpresenters.co.uk
SUMMARY:International Women’s Day
DESCRIPTION:Why Celebrate International Women’s Day?\nInternational Women’s Day (IMD) is on March 8th each year\, and this year’s theme is #AccelerateAction. \nIWD is a time to celebrate the achievements of women throughout history and in modern society; the day is embraced globally to great success. The day also looks into how we can work together to create a more gender-equal workplace\, free of gender bias\, stereotypes\, and discrimination\, and how we can create an environment that is diverse and inclusive\, where differences are celebrated\, valued\, and accepted. \n\n		\n		\n			\n				\n			\n			\n				\n			\n			\n				\n			\n			\n				\n			\n			\n				\n			\n			\n				\n			\n		\n\n  \nFind an Inspirational International Women’s Day Speaker\nSince we launched Great British Speakers\, seeing how influential our inspirational female talents have been to our clients and our success as a speakers bureau has been encouraging.  From day one\, we’ve been fortunate enough to offer our clients household names – such as Nigella Lawson\, Kirstie Allsopp\, Anna Richardson\, Princess Michael of Kent and Mary Berry – to our clients.  As we have grown\, we’ve introduced more extraordinary female talents to our teams\, such as the founder of the Women’s Equality Party\, Sandi Toksvig\, tech entrepreneur Alex Depledge\, property travel icon Carol Smillie and Olympian Dame Kelly Holmes\, just to name a few. \n  \nSearch all of our International Women's Day Speakers\n  \nListen to the Podcast!\n \nChats with some of our leading female speakers for International Women’s Day…\nWelcome to the Great British Speakers Podcast Series\, where we connect you with the UK’s top keynote speakers\, business leaders\, athletes\, mental health advocates\, and more. Each episode offers valuable insights and key takeaways\, highlighting the benefits of hiring a Great British Speaker for your next event. With diverse topics like mental health\, equality\, business\, and leadership\, there’s something for everyone. \n  \nInternational Women’s Day 2025\n \n  \n  \nHire The Best Female International Women’s Day Speakers\nIf you’d like to book an inspirational female International Women’s Day speaker\, then do get in touch with Great British Speakers Jane Farnham and Steve Denison at 0044 1753 439289 or email bookings@greatbritishtalent.com
URL:https://greatbritishpresenters.co.uk/event/international-womens-day-speakers/
ATTACH;FMTTYPE=image/jpeg:https://greatbritish.b-cdn.net/wp-content//uploads/2022/11/International-Womens-Day-keynote-speakers-at-Great-British-Speakers.jpg
END:VEVENT
END:VCALENDAR