BEGIN:VCALENDAR
VERSION:2.0
PRODID:-//Great British UK Talent - Live - ECPv6.15.20//NONSGML v1.0//EN
CALSCALE:GREGORIAN
METHOD:PUBLISH
X-WR-CALNAME:Great British UK Talent - Live
X-ORIGINAL-URL:https://greatbritishpresenters.co.uk
X-WR-CALDESC:Events for Great British UK Talent - Live
REFRESH-INTERVAL;VALUE=DURATION:PT1H
X-Robots-Tag:noindex
X-PUBLISHED-TTL:PT1H
BEGIN:VTIMEZONE
TZID:UTC
BEGIN:STANDARD
TZOFFSETFROM:+0000
TZOFFSETTO:+0000
TZNAME:UTC
DTSTART:20240101T000000
END:STANDARD
END:VTIMEZONE
BEGIN:VEVENT
DTSTART;VALUE=DATE:20251001
DTEND;VALUE=DATE:20251101
DTSTAMP:20260426T031238
CREATED:20221105T154858Z
LAST-MODIFIED:20250302T124653Z
UID:17656-1759276800-1761955199@greatbritishpresenters.co.uk
SUMMARY:Cybersecurity Awareness Month
DESCRIPTION:The Importance of Cyber Security Awareness Month\nCyber Security Awareness Month takes place every year from October 1st to October 31st. Originally a U.S. initiative\, it has since been embraced by the UK and Europe in response to the increasing advancements in AI and technology. \nAccording to Fobes… \n\nThere were 2\,365 cyberattacks in 2023\, with 343\,338\,964 victims.1\n2023 saw a 72% increase in data breaches since 2021\, which held the previous all-time record 1\nAround the world\, a data breach cost $4.88 million on average in 2024.2\nEmail is the most common vector for malware\, with around 35% of malware delivered via email in 2023.3\n94% of organisations have reported email security incidents.4\nBusiness email compromises accounted for over $2.9 billion in losses in 2023.5\nInformation security jobs are projected to grow by 32% between 2022 and 2032.6\n\n(see source) \nInitiated by the National Cybersecurity Alliance (NCA)\, Cybersecurity Awareness Month aims to raise awareness about cybersecurity and cybercrime prevention. The event advocates for the safe use of all technology and education on technological advancements. It’s about creating strong partnerships between governments and corporations to amplify our message and foster a greater “digital” good. \n \nThe NCA aims to make cybersecurity easier and more accessible so that people can enjoy the benefits technology brings to their lives without worry. \nWhether in a professional or personal setting\, cybersecurity is everyone’s responsibility and being educated about online safety can improve mental well-being and life’s stresses. \n  \nFind an Expert Cybersecurity Month Speaker\nHere at Great British Speakers\, we offer several cybersecurity experts who can advise you on the best way to improve your company’s online safety. By investing in cybersecurity today\, you can save money tomorrow. \nFeatured Speaker –  Glenn Wilkinson\nWhen he’s not being a consulting hacker\, Glenn Wilkinson is building products to help organisations defend themselves against cyber criminals; a security expert with more than 15 years of experience as an ‘ethical hacker’\, Glenn has helped several organisations\, from startups to governments and multinational conglomerates address security issues.  As a result\, he is well-known in the info-security industry. He has held presentations at many international conferences on cybersecurity\, ethical hacking\, Machine Learning\, AI and even cryptocurrency\, having worked for an Ethereum startup. \n \n  \nSearch all of our AI-Expert Speakers\n\n\nSimilar Speakers\n \nJoe Tidy is the BBC’s first dedicated Cybersecurity Reporter\, who has worked on investigations for international and home news outlets. Appointed in 2018\, he covered cybercrime\, hacking\, privacy\, data security\, online safety\, gaming\, and almost everything ‘internet’.  Read more about cybersecurity speaker\, Joe Tidy. \n  \n \nMisha Glenny is an expert security speaker on all aspects of organised crime.  From money laundering to cyber malfeasance\, people smuggling and the drugs trade\, he has unique insights into how new technology is reshaping traditional organised crime in the narcotics\, smuggling and sex trades. He also draws on his background in geopolitics to show how excellent power relations drive insecurity in cyberspace and why companies cannot rely on the government to support their vulnerabilities. His book McMafia: Seriously Organised Crime and DarkMarket: How Hackers Became the New Mafia was shortlisted for several prizes. McMafia has since been adapted into a TV series produced by AMC and the BBC. Read more about cybersecurity speaker\, Misha Glenny. \n  \nRelated Articles\nhttps://greatbritishpresenters.co.uk/news/tech-expert-speaker-jeremy-white-joins-the-speaking-team/ \nFind the Best AI Speakers \n \n  \nListen to the Podcast!\n \nChats with some of the UK’s leading Speakers… \nWelcome to the Great British Speakers Podcast Series\, where we connect you with the UK’s top keynote speakers\, business leaders\, athletes\, mental health advocates\, and more. Each episode offers valuable insights and key takeaways\, highlighting the benefits of hiring a Great British Speaker for your next event. With diverse topics like mental health\, equality\, business\, and leadership\, there’s something for everyone. \nHire a Cybersecurity Awareness Month Speaker\nIf you’re holding an event for Cybersecurity Awareness Month and would like to hire an inspirational speaker to share their story and expertise\, contact us at Great British Speakers by emailing Jane Farnham and Steve Denison at bookings@greatbritishtalent.com or calling +44 1753 439 289 to speak to a member of the team.
URL:https://greatbritishpresenters.co.uk/event/cybersecurity-speakers/2025-10-01/
ATTACH;FMTTYPE=image/jpeg:https://greatbritish.b-cdn.net/wp-content//uploads/2022/11/Cysersecurity-awareness-month-speakers-Find-the-best-talent-book-at-Great-British-Speakers.jpg
END:VEVENT
BEGIN:VEVENT
DTSTART;VALUE=DATE:20251001
DTEND;VALUE=DATE:20251101
DTSTAMP:20260426T031238
CREATED:20221105T162132Z
LAST-MODIFIED:20250302T124529Z
UID:17661-1759276800-1761955199@greatbritishpresenters.co.uk
SUMMARY:Breast Cancer Awareness Month
DESCRIPTION:Breast Cancer Awareness Month\nWhy acknowledge Breast Cancer Awareness Month?\n1 in 7 females in the UK will be diagnosed with breast cancer at some point in their lifetime\, and while rare\, there are around 390 men diagnosed annually in the UK. \nBreast Cancer Awareness Month aims to unite people worldwide in support of those affected by breast cancer. While the occasion can be difficult for some\, it also fosters a sense of community\, promotes education\, raises funds\, and helps reduce the stigma surrounding the disease. \nHiring an inspirational breast cancer awareness speaker is a meaningful way for businesses and health event organisers to engage audiences\, encourage early detection\, and provide a supportive community for those who have experienced or have a loved one who has experienced cancer firsthand.   Our inspirational speakers share personal stories and expert insights\, fostering understanding and motivation. \nBy hiring a workplace wellness Cancer awareness speaker\, businesses can enhance workplace wellness initiatives\, encourage preventive care\, and demonstrate a commitment to corporate social responsibility\, creating a more supportive and informed work environment. \n  \nFind Inspirational Breast Cancer Awareness Month Speakers\nAt Great British Speakers\, we’ve worked hard to secure a team of professional expert breast cancer awareness month speakers – female health and wellness speakers who all have personal\, heartfelt reasons why cancer awareness is such a vital topic of conversation for them. So\, if you’re running an event for Breast Cancer Awareness Month or any health and wellness event this year\, our cancer awareness speakers at Great British Speakers are here to help. \nSearch all of our Cancer Awareness Speakers\n  \nFeatured Speakers – Louise McMilan\nWith over 30 years of experience\, Louise McMilan has had a successful career in HR and Recruitment for companies including North Somerset Council\, First Great Western Railway\, Ofsted\, UK-SH\, Clarks\, Capita\, Unit4 Business Software\, Refresco Gerber\, Bristol Airport\, Redhall Group\, Rotork\, Central Facilities Group\, and Purple House Recruitment. She took a career break in 2017 after being diagnosed with breast cancer; Louise found her self-worth and her passion for helping others manage their mental health. Learn more about Louise McMilan here. \n \n  \nRelated Articles\n\nSupporting Women’s Health in the Workplace\nOvercoming Adversity with Cancer Awareness Speaker Clive Branson\n\nCancer Awareness Speakers: Health Experts & Survivors. \n \n  \nListen to the Podcast!\n \nChats with some of the UK’s leading Speakers… \nWelcome to the Great British Speakers Podcast Series\, where we connect you with the UK’s top keynote speakers\, business leaders\, athletes\, mental health advocates\, and more. Each episode offers valuable insights and key takeaways\, highlighting the benefits of hiring a Great British Speaker for your next event. With diverse topics like mental health\, equality\, business\, and leadership\, there’s something for everyone. \n  \nHire Breast Cancer Awareness Month Speakers\nIf you’re holding an event for Breast Cancer Awareness Month and would like to hire an inspirational some Breast Cancer Awareness Month Speaker to share their story\, or perhaps a medical expert to hold a talk on the signs and symptoms or how to cope with a diagnosis\, then do get in touch with us at Great British Speakers by emailing Jane Farnham and Steve Denison at bookings@greatbritishtalent.com or call +44 1753 439 289 to speak to a member of the team.
URL:https://greatbritishpresenters.co.uk/event/breast-cancer-speakers/2025-10-01/
ATTACH;FMTTYPE=image/jpeg:https://greatbritish.b-cdn.net/wp-content//uploads/2022/11/Breast-Cancer-Awareness-Month-Speakers-Find-the-best-top-speaker-book-at-Great-British-Speakers.jpg
END:VEVENT
BEGIN:VEVENT
DTSTART;VALUE=DATE:20251101
DTEND;VALUE=DATE:20251201
DTSTAMP:20260426T031238
CREATED:20221105T165750Z
LAST-MODIFIED:20250302T140353Z
UID:17674-1761955200-1764547199@greatbritishpresenters.co.uk
SUMMARY:Movember
DESCRIPTION:What is ‘Movember?’\n\nMovember is an annual event that occurs every November. During this time\, men grow moustaches to raise awareness of men’s health issues.\nBy encouraging men to grow moustaches\, Movember aims to increase early detection\, better knowledge and improved treatment of things such as prostate and testicular cancer\, mental health issues and men’s suicide.\nSince its inception\, Movember has raised over £400 million thanks to almost 7 million “Mo Bros” participating—not bad considering there were only 30 participants the first year.\n\nFacts! \n\n1 in 4 men admit to never having checked themselves for testicular cancer\nAlmost half of all men regularly forget to check themselves for testicular cancer\n47% of men with a mental health problem have never raised it in the workplace\nMen account for ¾ of UK deaths by suicide\nGlobally\, on average 1 man dies of suicide every minute of every day\nMen are dying on average 4.5 years earlier than women thanks to largely preventable/treatable reasons such as prostate or testicular cancer\, and mental health difficulties\n\n  \nFind the best Inspirational Movember Men’s Health Speakers.\nOver the past decade\, the highest suicide rates each year have been in working-age males. Employers must create a safe workplace to provide their staff with the best mental and physical health support possible. We have a large team of male mental health speakers who are willing to share their stories about mental health\, suicidal thoughts\, and physical illnesses such as cancer. \nFeatured Speaker – Clive Branson\nThe last few years have been an astonishing period for Clive Branson\, who’s no stranger to the isolation mental and physical health can bring. Having been diagnosed with Motor Neurone Disease in 2017 and Prostate Cancer a year later\, Clive has battled more than most. And although the last five years have been rather eventful for Clive and his family\, his philosophy now is simple – not to allow daily challenges to define him.  Today\, Clive’s mission is to actively demonstrate that we do have the ability to overcome adversity. Resilience\, Hope and Positivity are crucial words in his vocabulary\, and the next chapter of his life will be met with stoicism and a smile.  Clive is the epitome of an ‘inspirational speaker.’ \n \n  \nSearch all of our leading Men's Health Speakers\n  \nRelated Articles\nSpeaking Up on Men’s Mental Health – ‘Our Silent Emergency’ with Roman Kemp \n \n  \nDiscover our International Men’s Day Speakers – 19th November 2025\n \n  \nThe best Movember Men’s Health Speakers on our Podcast\n\nClive Branson | Overcoming Adversity\, Disability \nBen Smith | LGBTQ+ Anti-Bullying & Endurance\nAndrew Pain | Domestic Violence Isn’t Gendered\nAlex Staniforth | Mind Over Mountains Men’s Mental Health\nDave Walsh | World’s Strongest Disabled Man\nSteve Carr | ‘Losing Myself to Find Everything’ – Suicide Awareness\n\n \nListen to the Podcast!\nChats with some of the UK’s leading Speakers… \nWelcome to the Great British Speakers Podcast Series\, where we connect you with the UK’s top keynote speakers\, business leaders\, athletes\, mental health advocates\, and more. Each episode offers valuable insights and key takeaways\, highlighting the benefits of hiring a Great British Speaker for your next event. With diverse topics like mental health\, equality\, business\, and leadership\, there’s something for everyone. \n  \nHire the best Movember Men’s Health Speakers\nIf you’re looking to hold an event for Movember or just want to educate and support your colleagues\, contact Great British Speakers’ Jane Farnham and Steve Denison at +44 1753 439 289 or email bookings@greatbritishtalent.com
URL:https://greatbritishpresenters.co.uk/event/movember-mens-health/2025-11-01/
ATTACH;FMTTYPE=image/jpeg:https://greatbritish.b-cdn.net/wp-content//uploads/2022/11/Movember-mens-health-speakers-prostrate-cancer-at-Great-British-Speakers.jpg
END:VEVENT
END:VCALENDAR