BEGIN:VCALENDAR
VERSION:2.0
PRODID:-//Great British UK Talent - Live - ECPv6.15.20//NONSGML v1.0//EN
CALSCALE:GREGORIAN
METHOD:PUBLISH
X-WR-CALNAME:Great British UK Talent - Live
X-ORIGINAL-URL:https://greatbritishpresenters.co.uk
X-WR-CALDESC:Events for Great British UK Talent - Live
REFRESH-INTERVAL;VALUE=DURATION:PT1H
X-Robots-Tag:noindex
X-PUBLISHED-TTL:PT1H
BEGIN:VTIMEZONE
TZID:UTC
BEGIN:STANDARD
TZOFFSETFROM:+0000
TZOFFSETTO:+0000
TZNAME:UTC
DTSTART:20260101T000000
END:STANDARD
END:VTIMEZONE
BEGIN:VEVENT
DTSTART;VALUE=DATE:20271114
DTEND;VALUE=DATE:20280201
DTSTAMP:20260422T224221
CREATED:20221105T174313Z
LAST-MODIFIED:20221105T174313Z
UID:32726-1826150400-1832975999@greatbritishpresenters.co.uk
SUMMARY:Christmas Party Entertainment at GREAT BRITISH SPEAKERS
DESCRIPTION:Corporate Christmas Party Entertainment – Entertainers & Hosts\nAre you ready to book the best Christmas corporate event you’ve ever been to…\nWe know that finding the perfect entertainer for your event can be difficult – especially with so many options to choose from. \nLuckily\, at Great British Speakers\, we only work with the crème de la crème of the entertainment world\, making the decision far easier for busy event planners like you. \nFrom engaging after-dinner speakers to magicians\, musicians or even celebrity guests\,  our corporate Christmas entertainers are a great way to motivate\, inspire and promote positivity! \nOr\, if you’re looking to award your team\, why not add a bit of Hollywood glamour and hold a very glitzy Christmas awards ceremony? \nWhat the prizes are is up to you\, but when it comes to hosting\, why not hire a presenter who will ensure your awards event is a night to remember for all the right reasons… \nAnd if you’re after a recognisable voice\, then you can now hire a Celebrity Voiceover with us too! \nSo\, if you’re hoping to give your audience something completely unique this festive season\, then hire one of the UK’s most magical entertainers in the business. \nThe Best Entertainment For Corporate Christmas Events 2022 | Great British Speakers \n \n  \nCorporate Christmas Entertainment | Similar Speakers Blogs \n\nFind the Best After Dinner Speakers\nFind a Virtual Speaker for Remote Celebrations\nHire a Celebrity Awards Host\nCelebrity Voiceovers\n\n  \nHire The Best Corporate Christmas Party Entertainment\nIf you’d like to book the best corporate Christmas Party Entertainment then do get in touch with Jane Farnham and Steve Denison on 0044 1753 439289 or email bookings@greatbritishtalent.com
URL:https://greatbritishpresenters.co.uk/event/christmas-party-entertainment/2027-11-14/
ATTACH;FMTTYPE=image/jpeg:https://greatbritish.b-cdn.net/wp-content//uploads/2022/11/Corporate-Christmas-Party-Entertainment-UK-find-the-best-hosts-bands-comedians-at-speaker-agent-Great-British-Speakers.jpg
END:VEVENT
BEGIN:VEVENT
DTSTART;VALUE=DATE:20280101
DTEND;VALUE=DATE:20280102
DTSTAMP:20260422T224221
CREATED:20221105T105837Z
LAST-MODIFIED:20221105T105837Z
UID:32749-1830297600-1830383999@greatbritishpresenters.co.uk
SUMMARY:Veganuary Speakers at GREAT BRITISH SPEAKERS
DESCRIPTION:Vegan and Plant-Based Cooks for Veganuary\nWhat is Veganuary?\nCreated in 2014\, Veganuary has become a popular way for people to dip their toes in the world of vegan and plant-based food. Veganuary encourages people and businesses to move to a more plant-based diet in order to prevent animal suffering\, protect the environment and improve health. \nIn 2015\, almost 13\,000 people signed up for Veganuary\, a figure that doubled for the first three years\, before jumping to over 168\,000 in 2018. This would go on to increase each year.  In January 2023 over 70\,000 people across 228 countries and territories signed up to take part\, breaking all previous records and demonstrating a clear interest in the growing rise of veganism and  it’s potentional health benefits. \n  \nFind Inspirational Veganuary Speakers\nAt Great British Speakers\, we work alongside some of the country’s best cooks\, chefs\, food writers and vegan advocates. So\, this January why not join the thousands of us who will make resolutions to learn more about cooking healthy plant-based food\, nutrition\, the sustainable impact of plant based food on our environment. \nJust some of our plant-based Veganuary speakers include; \nFounder of Planthood\, Will Moxham \, vegan chef Lisa Marley\,  nutritionist and social media influencer Plant Based Pixie\, Great British Bake Off’s Rav Bansal\,  and Botanist and Superfoods Guru James Wong.   \n\n		\n		\n			\n				\n			\n			\n				\n			\n			\n				\n			\n		\n\nContact us Great British Speakers for a personalised shortlist of Food\, Wellness & Nutritional speakers available for 'Veganuary' Events.\n\n\nLEARN MORE\nVeganuary  \n\nVeganuary | Workplace Challenge\nVeganuary 2024 – Your Ultimate Guide\n\n  \nHire the Best Veganuary Speakers\nIf you’re looking to sign up to Veganuary\, introduce it to the workplace\, or simply want to educate your staff on veganism\, then book one of our vegan / plant-based speakers. \nContact Great British Speakers’ Jane Farnham and Steve Denison at +44 1753 439 289 or email bookings@greatbritishtalent.com
URL:https://greatbritishpresenters.co.uk/event/veganuary-speakers-2/2028-01-01/
ATTACH;FMTTYPE=image/jpeg:https://greatbritish.b-cdn.net/wp-content//uploads/2022/11/Veganuary-UK-find-the-best-speakers-at-speaker-agent-Great-British-Speakers.jpg
END:VEVENT
BEGIN:VEVENT
DTSTART;VALUE=DATE:20280101
DTEND;VALUE=DATE:20280201
DTSTAMP:20260422T224221
CREATED:20221105T104612Z
LAST-MODIFIED:20221105T104612Z
UID:32748-1830297600-1832975999@greatbritishpresenters.co.uk
SUMMARY:Dry January Speakers at GREAT BRITISH SPEAKERS
DESCRIPTION:Dry January Speakers: Find Addiction and Wellness Speakers for Dry January\nWhy  Participate in Dry January?\nDry January UK sees adults up and down the country giving up alcohol for the month of January. \nOfficially starting in 2013 with 4\,000 participants\, it has grown exponentially with 2022 seeing 130\,000 take part. \nDry January was founded in 2013 by Emily Robinson who  stopped drinking alcohol in 2011 in preparation for first half marathon run.  Soon after Emily started working for Alcohol Change UK\, and again gave up alcohol during January as a way to feel better after the Christmas period.  But now that she worked for Alcohol Change UK\, she found herself being asked to speak about her own experience and ‘Dry January’ was born. \nWith famous names such as journalists Alastair Campbell and Peter Osborne on board\, the campaign grew and grew\, and continues to attract more participants every year to become healthier\, but also assist to bring awareness and help those looking overcome alcoholism / addiction issues. \n  \nFind inspirational Dry January Speakers\nAt Great British Speakers\, we work alongside some of the country’s best physical and mental health and well-being speakers\, some of whom have their own personal experiences of alcohol dependency and addiction. \n \n\nDry January Speakers – Lauren Windle\nLauren Windle is a journalist\, author and public speaker specialising in addictions. Working as an event and marketing executive in the City of London during her 20s\, Lauren developed a love for cocaine and alcohol which quickly spiraled into an addiction. \nIn 2014\, she got clean and became sober and put her life back together. She now runs a recovery course for others who also struggle with unmanageable behaviours. \nThe course has seen many people recover from addictions to substances\, food\, alcohol\, gambling\, sex\, pornography and co-dependency\, amongst others. Lauren is one of the ideal motivational\, Dry January speakers. \n  \n\n\n\nDry January Speakers – Mandy Saligari\nMandy is the founder and clinical director of Charter\, one of London’s leading outpatient clinics specialising in private addiction treatment. Having recovered from addiction herself\, Mandy understands first-hand the difficulties of overcoming addiction. \nShe now runs group workshops and hosts interventions and lectures on the subject in an attempt to help others also overcome their addictions. Mandy is also passionate about dispelling the social stigma attached to mental health and holds regular talks at schools on early intervention\, addiction\, emotional coping mechanisms and self-esteem. \n  \nContact us Great British Speakers for a personalised shortlist of mental health and addiction specialists available for Dry January Events.\n  \nLEARN MORE\n Dry January.  \n\nDry January\nAlcohol Change | Dry January for Workplaces\nSupport Your Employees This Dry January\nPact HR | Dry January & Alcohol\n\n  \nTo book the best Dry January speakers\, contact Great British Speakers’ Jane Farnham and Steve Denison at +44 1753 439 289 or email bookings@greatbritishtalent.com
URL:https://greatbritishpresenters.co.uk/event/dry-january-speakers/2028-01-01/
ATTACH;FMTTYPE=image/jpeg:https://greatbritish.b-cdn.net/wp-content//uploads/2022/11/Dry-January-UK-find-the-best-speakers-at-speaker-agent-Great-British-Speakers.jpg
END:VEVENT
BEGIN:VEVENT
DTSTART;VALUE=DATE:20280115
DTEND;VALUE=DATE:20280116
DTSTAMP:20260422T224221
CREATED:20230114T133922Z
LAST-MODIFIED:20230114T133922Z
UID:32758-1831507200-1831593599@greatbritishpresenters.co.uk
SUMMARY:Blue Monday Speakers at GREAT BRITISH SPEAKERS
DESCRIPTION:Blue Monday Mental Health Speakers\n  \nWhat is Blue Monday?\nThe term Blue Monday is a compilation term for what we’ve come to know as those post-Christmas blues… back to a normal work routine\,  cold\, dark days and the costs of unpaid Christmas debts and winter credit card bills\,  all which make this time of year feel a tad more gloomy. \nThe term was coined by a psychologist\, Cliff Arnall\, back in 2004\, when  Sky Travel\, asked him for a “scientific formula” for the January blues. From his research\, Arnell calculated that the most depressing day of the year could be discovered using the following formula; \nWhere weather=W\, debt=d\, time since Christmas=T\, time since failing our new year’s resolutions=Q\, low motivational levels=M and the feeling of a need to take action=Na. ‘D’ is not defined in the release\, nor are units. \nUsing his calculation\, he determined that the most depressing day of the year was\, in fact\, the 3rd Monday of January. \n – so next year\, it will fall on the 20th of January 2025. \nDespite the term initially being coined to encourage people to book holidays – the term seems to have stuck\, as is now widely used in to describe those seasonal blues and even more severe mental health and mood disorders\, such as SAD (Seasonal Affective Disorder). \nHowever\, in some circumstances\, when these moods don’t lift\, they can spiral into more long-term mental health conditions. \nSo while the date may have been coined for a quick holiday PR stunt\, the awareness it’s raised over the years has been fundamental in raising the wider concerns of mental health issues globally. \n  \nFind Inspirational Blue Monday Mental Health Speakers\n\n\n\n\n\n\n\n\nAt Great British Speakers\, you can hire Blue Monday mental health speakers who specifically focus on health and fitness\, from mental wellness professionals to some of the country’s leading Sports stars who will bring a whole different level to your team-building event through their motivational talks to really heighten your team’s morale through these difficult months. \nSo\, if you would be interested in finding out more about our Blue Monday speakers\, we are only an email or a phone call away – the team at Great British Speakers is here to help you find the best mental health speakers. \nFeatured Speaker:  Rob Hosking\n \n \n  \n\n\n\n\n\n\n\n\nContact us Great British Speakers for a personalised shortlist of Blue Monday mental health speakers.\nLEARN MORE\nMental Health Speakers | Similar Speakers & Blogs \n\nSuicide Prevention Speaker Steve Carr\nSupporting Women’s Health in the Workplace\nHow to Prevent Work/Life Burnout with Andrew Pain\nNew Ways to Cope with Mental Health in the Workplace\nSpeaking Up on Men’s Mental Health with Roman Kemp\n\nhttps://greatbritishspeakers.co.uk/news/health-motivational-speaker-2024/ \n  \n“A Chat With…”  Episodes with our Mental Health Speakers | Podcast. \n \n\nClive Branson | Overcoming Adversity\, Disability \nBen Smith | LGBTQ+ Anti-Bullying & Endurance\nAndrew Pain | Domestic Violence Isn’t Gendered\nAlex Staniforth | Mind Over Mountains Men’s Mental Health\nDave Walsh | World’s Strongest Disabled Man\nSteve Carr | ‘Losing Myself to Find Everything’ – Suicide Awareness\n\n\nLinks to Resources | Mental Health Support \n\nContact ‘Mind’ – Mental Health Charity\nContact Samaritans – Mental Health Charity\nWorld Health Organization \nWorld Mental Health Day\n\n  \nHire Blue Monday Mental Health Speakers\nIf you’d like to book any motivational Blue Monday Mental Health speakers to add some optimism and inspiration this Blue Monday\, then do get in touch with directors Jane Farnham and Steve Denison here at Great British Speakers. \nCall +44 1753 439289 or email bookings@greatbritishtalent.com \n 
URL:https://greatbritishpresenters.co.uk/event/mental-health-speakers/2028-01-15/
ATTACH;FMTTYPE=image/jpeg:https://greatbritish.b-cdn.net/wp-content//uploads/2023/01/Find-Blue-Monday-Mental-Health-Speakers-at-Great-British-Speakers.jpg
END:VEVENT
BEGIN:VEVENT
DTSTART;VALUE=DATE:20280204
DTEND;VALUE=DATE:20280205
DTSTAMP:20260422T224221
CREATED:20221105T112532Z
LAST-MODIFIED:20221105T112532Z
UID:32785-1833235200-1833321599@greatbritishpresenters.co.uk
SUMMARY:World Cancer Day at GREAT BRITISH SPEAKERS
DESCRIPTION:Search for World Cancer Day speakers here\nWhy Acknowledge World Cancer Day?\nCreated in 2000\, World Cancer Day is held every 4th February and aims to unite the world in raising awareness\, improving education and sourcing cures to all cancers\, as well as ensuring live-saving cancer treatment and care is accessible to all. \nSince its start\, World Cancer Day has covered many themes including care\, positive mindsets\, debunking myths\, diet and activity\, prevention and\, above all else\, communication. \nWorld Cancer Day Facts!\n\n10 million people die from cancer every year\n1/3 of cancer cases can be prevented\, and another 1/3 can be treated if found early\nUp to 27% of cancers are related to lifestyle factors including smoking\nThe estimated global cost of cancer is to be £974 billion or $1.16 trillion\nHalf the world’s population lacks access to full cancer health services\n\nFind Inspirational World Cancer Day Speakers\nAt Great British Speakers\, we’ve worked hard to secure a team of professional cancer awareness and health experts\, who all have personal reasons as to why cancer awareness is an important topic for them. Between them\, they highlight ways you can reduce your risk of cancer and how to catch the signs early. \nFeatured Speaker – Bridgid Nzekwu | World Cancer Day Speakers\nAfter battling cancer twice\, reporter Bridgid Nzekwu is an advocate for physical and mental health and wellbeing. Shortly after leaving school\, she was diagnosed with Hodgkin’s Lymphoma and went through gruelling radiotherapy before being given a clean bill of health. Then in 2012 she was told that a benign lump in her left breast had developed into a malignant tumour. Poignantly\, it seems the cause of the cancer was the high dose of radiation she had when she was younger\, and because of his high does\, it meant she was unable to have anymore and so opted to have her breast removed. But once the doctors told her she had a 25% chance of the cancer returning in the other breast\, she opted for a double mastectomy. Through her own experience\, Bridgit is a speaker who can impart wisdom and truly sympathise with any audience. \n \nWorld Cancer Day Speakers | Similar Speakers and Blogs\n\nClive Branson\nDr Brooke Vandermolen\nSimon Thomas\nHealth and Wellness Speakers\nOvercoming Adversity – A Chat With Clive Branson\nCancer Awareness Speakers: Health Experts & Survivors \n\nLinks to Resources for Cancer Support\n\nWorld Cancer Day\nCancer Research – Coping with Cancer\nMacmillan – Cancer Information and Support\nWork and Cancer\nMacmillan at Work – Employers \nCancer Research – Cancer Awareness in the Workplace\nCancer in the Workplace\nWorking with Cancer\n\nHire inspirational World Cancer Day Speakers\nIf you’re holding an event and want to find the best World Cancer Day speakers\, or simply want to educate your staff on the symptoms\, treatment and effects of cancer within the workplace\, then get in touch with us\, as we have an array of experts just waiting to share their story. Contact Great British Speakers Jane Farnham and Steve Denison at +44 1753 439 289 or email bookings@greatbritishtalent.com 
URL:https://greatbritishpresenters.co.uk/event/world-cancer-day-speakers/2028-02-04/
ATTACH;FMTTYPE=image/jpeg:https://greatbritish.b-cdn.net/wp-content//uploads/2022/11/World-Cancer-Day-speakers-UK-find-the-best-at-speaker-agent-Great-British-Speakers.jpg
END:VEVENT
BEGIN:VEVENT
DTSTART;VALUE=DATE:20280301
DTEND;VALUE=DATE:20280401
DTSTAMP:20260422T224221
CREATED:20221105T120752Z
LAST-MODIFIED:20221105T120752Z
UID:32844-1835481600-1838159999@greatbritishpresenters.co.uk
SUMMARY:Prostate Cancer Awareness Month
DESCRIPTION:In recognition of Prostate Cancer Awareness Month\, held every March\, our male health speakers are here to support and increase awareness about prostate cancer. The initiative\, organised by Prostate Cancer UK\, strives to educate men about the common signs and symptoms\, facilitate early diagnosis\, and potentially increase cure rates. \nFind Inspirational Prostate Cancer Awareness Month Speakers\nAt Great British Speakers\, we’ve worked hard to secure a team of professional prostate cancer awareness month speakers—health and wellness experts from all walks of life—from those living with the disease to cancer survivors and doctors—all of whom have personal\, heartfelt reasons why cancer awareness is such a vital topic of conversation for them.  So\, if you’re running an event and searching for  Prostate Cancer Awareness Month Speakers or any health and wellness event this year\, our cancer awareness speakers at Great British Speakers are here to help. \nSearch ALL of our Cancer Awareness Speakers\n  \nFeatured Prostate Cancer Awareness Month Speakers\nA medical doctor and award-winning TV host Dr David Bull\, has over 20 years of experience reporting on health matters in both Britain and America. With degrees in medicine\, science\, and surgery and experience working in some of the country’s top hospitals\, Dr Bull is frequently booked as a keynote speaker. \nDr Mark Porter is the BBC’s resident medical expert\, reporting on Radio 4 and The One Show. A journalist and a busy GP\, Dr Porter’s relaxed\, no-nonsense attitude has made him a popular keynote speaker and presenter for the medical industry. \nAfter 20 years in the military defence industry\, Clive Branson was diagnosed with Prostate Cancer and Motor Neurone Disease. Now a successful mental health speaker\, Clive shares his battles and how to live with our vulnerabilities successfully. \n  \n\n		\n		\n			\n				\n			\n			\n				\n			\n			\n				\n			\n		\n\n  \nListen to the Podcast!\n \nFind Chats with Cancer Awareness Speaker Clive Branson\, and many other wellness experts on our Podcast channel.\nWelcome to the Great British Speakers Podcast Series\, where we connect you with the UK’s top keynote speakers\, business leaders\, athletes\, mental health advocates\, and more. Each episode offers valuable insights and key takeaways\, highlighting the benefits of hiring a Great British Speaker for your next event. With diverse topics like mental health\, equality\, business\, and leadership\, there’s something for everyone. \n  \nHire an Inspirational Prostate Cancer Awareness Speaker\nIf you’re holding an event and trying to find Prostate Cancer Awareness Month Speakers and would like to hire an inspirational speaker to share their story\, or perhaps a medical expert to hold a talk on the signs and symptoms or how to cope with a diagnosis\, then do get in touch with us at Great British Speakers by emailing Jane Farnham and Steve Denison at  bookings@greatbritishtalent.com or call +44 1753 439 289 to speak to a member of the team
URL:https://greatbritishpresenters.co.uk/event/prostate-cancer-awareness-month-speakers/2028-03-01/
ATTACH;FMTTYPE=image/jpeg:https://greatbritish.b-cdn.net/wp-content//uploads/2022/11/Prostate-Cancer-Awareness-Month-Speakers-UK-find-the-best-speakers-at-speaker-agent-Great-British-Speakers.jpg
END:VEVENT
END:VCALENDAR