BEGIN:VCALENDAR
VERSION:2.0
PRODID:-//Great British UK Talent - Live - ECPv6.15.20//NONSGML v1.0//EN
CALSCALE:GREGORIAN
METHOD:PUBLISH
X-WR-CALNAME:Great British UK Talent - Live
X-ORIGINAL-URL:https://greatbritishpresenters.co.uk
X-WR-CALDESC:Events for Great British UK Talent - Live
REFRESH-INTERVAL;VALUE=DURATION:PT1H
X-Robots-Tag:noindex
X-PUBLISHED-TTL:PT1H
BEGIN:VTIMEZONE
TZID:UTC
BEGIN:STANDARD
TZOFFSETFROM:+0000
TZOFFSETTO:+0000
TZNAME:UTC
DTSTART:20240101T000000
END:STANDARD
END:VTIMEZONE
BEGIN:VEVENT
DTSTART;VALUE=DATE:20250601
DTEND;VALUE=DATE:20250701
DTSTAMP:20260422T020704
CREATED:20221105T130648Z
LAST-MODIFIED:20250227T140742Z
UID:17638-1748736000-1751327999@greatbritishpresenters.co.uk
SUMMARY:Pride Month Speakers
DESCRIPTION:Why Celebrate Pride Month?\nPride Month\, celebrated every June\, promotes inclusivity for the LGBTQ+ community in society and the workplace. It provides a safe space to discuss LGBTQ+ issues\, foster allyship\, and highlight the importance of workplace inclusivity. By creating an equitable environment\, employers help employees feel valued\, leading to greater engagement and productivity. \nAn LGBTQ+ Pride Month Speaker can support this mission by educating staff on diverse identities\, challenging exclusionary behaviour\, encouraging open discussions\, and promoting allyship—which proven to reduce suicidal thoughts among LGBTQ+ individuals. \nFind an Inspirational LGBTQ+ Pride Month Speaker\nAt Great British Speakers\, we’ve worked hard to secure a team of professional equality and inclusion speakers who are often booked to give educational talks on the inclusivity of gender identity\, sexuality\, and LGBTQ+ rights. \nFeatured Speaker – Ben Smith | LGBTQ+ Mental Health Pride Month Speaker\n \n  \nMotivational speaker Ben Smith has delivered over 400 talks reaching nearly 100\,000 people since completing his 401 Challenge\, to raise money for the LGBTQ+ anti-bullying charity\, Stonewall.  His teaching includes healing through support\, achieving goals and\, above all\, proving that with happiness and a strong foundation\, anything is possible.  The 401 Foundation\, which was set up in response to Ben’s accomplishments undertaking The 401 Challenge\, offers grants to help communities and individuals build confidence and self-esteem\, and positively contribute to people’s mental well-being\, especially to those within the LGBTQ+ community. \n  \nSearch all of or Pride Month LGBTQ+ Speakers \n\n\n\n		\n		\n			\n				\n			\n			\n				\n			\n			\n				\n			\n			\n				\n			\n			\n				\n			\n			\n				\n			\n			\n				\n			\n			\n				\n			\n			\n				\n			\n		\n\n  \nListen to the Podcast!\n \nFind Chats with our Leading LGBTQ+ Speakers…\nWelcome to the Great British Speakers Podcast Series\, where we connect you with the UK’s top keynote speakers\, business leaders\, athletes\, mental health advocates\, and more. Each episode offers valuable insights and key takeaways\, highlighting the benefits of hiring a Great British Speaker for your next event. With diverse topics like mental health\, equality\, business\, and leadership\, there’s something for everyone. \n  \nRelated Articles\nMatt Lindley Pride Month Speaker Keynote ‘My Boss\, Changed My Life’ \n \n  \nMatt Ellison | Inspirational Transgender Pride Month Speaker \n \n  \nLinks to Resources: Pride Info and LGBTQ+ Support \n\nMake an Impact at Work – Come Out for LGBT in the Workplace\nHow Can You Celebrate Pride Month in Your Workplace\nWhat is Pride Month? Everything You Need to Know\nHow to Celebrate Pride in Your Workplace\nLGBT Foundation\n\n  \nWatch LGBTQ+ Anti-bullying Speaker Alex Holmes’ Tedx Talk \n \n\nHire Inspirational LGBTQ+ Pride Month Speakers\nIf you’d like to book inspirational Pride Month speakers for this year’s event\, then do get in touch with Jane Farnham and Steve Denison at 0044 1753 439289 or email bookings@greatbritishtalent.com \n 
URL:https://greatbritishpresenters.co.uk/event/pride-month-speakers/2025-06-01/
ATTACH;FMTTYPE=image/jpeg:https://greatbritish.b-cdn.net/wp-content//uploads/2022/11/Pride-month-speakers-UK-find-the-best-at-speaker-agent-Great-British-Speakers.jpg
END:VEVENT
END:VCALENDAR