BEGIN:VCALENDAR
VERSION:2.0
PRODID:-//Great British UK Talent - Live - ECPv6.15.20//NONSGML v1.0//EN
CALSCALE:GREGORIAN
METHOD:PUBLISH
X-WR-CALNAME:Great British UK Talent - Live
X-ORIGINAL-URL:https://greatbritishpresenters.co.uk
X-WR-CALDESC:Events for Great British UK Talent - Live
REFRESH-INTERVAL;VALUE=DURATION:PT1H
X-Robots-Tag:noindex
X-PUBLISHED-TTL:PT1H
BEGIN:VTIMEZONE
TZID:UTC
BEGIN:STANDARD
TZOFFSETFROM:+0000
TZOFFSETTO:+0000
TZNAME:UTC
DTSTART:20240101T000000
END:STANDARD
END:VTIMEZONE
BEGIN:VEVENT
DTSTART;VALUE=DATE:20250101
DTEND;VALUE=DATE:20250102
DTSTAMP:20260422T111633
CREATED:20221105T105837Z
LAST-MODIFIED:20240419T103315Z
UID:21953-1735689600-1735775999@greatbritishpresenters.co.uk
SUMMARY:Veganuary Speakers at GREAT BRITISH SPEAKERS
DESCRIPTION:Vegan and Plant-Based Cooks for Veganuary\nWhat is Veganuary?\nCreated in 2014\, Veganuary has become a popular way for people to dip their toes in the world of vegan and plant-based food. Veganuary encourages people and businesses to move to a more plant-based diet in order to prevent animal suffering\, protect the environment and improve health. \nIn 2015\, almost 13\,000 people signed up for Veganuary\, a figure that doubled for the first three years\, before jumping to over 168\,000 in 2018. This would go on to increase each year.  In January 2023 over 70\,000 people across 228 countries and territories signed up to take part\, breaking all previous records and demonstrating a clear interest in the growing rise of veganism and  it’s potentional health benefits. \n  \nFind Inspirational Veganuary Speakers\nAt Great British Speakers\, we work alongside some of the country’s best cooks\, chefs\, food writers and vegan advocates. So\, this January why not join the thousands of us who will make resolutions to learn more about cooking healthy plant-based food\, nutrition\, the sustainable impact of plant based food on our environment. \nJust some of our plant-based Veganuary speakers include; \nFounder of Planthood\, Will Moxham \, vegan chef Lisa Marley\,  nutritionist and social media influencer Plant Based Pixie\, Great British Bake Off’s Rav Bansal\,  and Botanist and Superfoods Guru James Wong.   \n\n		\n		\n			\n				\n			\n			\n				\n			\n			\n				\n			\n		\n\nContact us Great British Speakers for a personalised shortlist of Food\, Wellness & Nutritional speakers available for 'Veganuary' Events.\n\n\nLEARN MORE\nVeganuary  \n\nVeganuary | Workplace Challenge\nVeganuary 2024 – Your Ultimate Guide\n\n  \nHire the Best Veganuary Speakers\nIf you’re looking to sign up to Veganuary\, introduce it to the workplace\, or simply want to educate your staff on veganism\, then book one of our vegan / plant-based speakers. \nContact Great British Speakers’ Jane Farnham and Steve Denison at +44 1753 439 289 or email bookings@greatbritishtalent.com
URL:https://greatbritishpresenters.co.uk/event/veganuary-speakers-2/2025-01-01/
ATTACH;FMTTYPE=image/jpeg:https://greatbritish.b-cdn.net/wp-content//uploads/2022/11/Veganuary-UK-find-the-best-speakers-at-speaker-agent-Great-British-Speakers.jpg
END:VEVENT
END:VCALENDAR