BEGIN:VCALENDAR
VERSION:2.0
PRODID:-//Great British UK Talent - Live - ECPv6.15.20//NONSGML v1.0//EN
CALSCALE:GREGORIAN
METHOD:PUBLISH
X-WR-CALNAME:Great British UK Talent - Live
X-ORIGINAL-URL:https://greatbritishpresenters.co.uk
X-WR-CALDESC:Events for Great British UK Talent - Live
REFRESH-INTERVAL;VALUE=DURATION:PT1H
X-Robots-Tag:noindex
X-PUBLISHED-TTL:PT1H
BEGIN:VTIMEZONE
TZID:UTC
BEGIN:STANDARD
TZOFFSETFROM:+0000
TZOFFSETTO:+0000
TZNAME:UTC
DTSTART:20230101T000000
END:STANDARD
END:VTIMEZONE
BEGIN:VEVENT
DTSTART;VALUE=DATE:20240301
DTEND;VALUE=DATE:20240401
DTSTAMP:20260423T040940
CREATED:20240207T125033Z
LAST-MODIFIED:20240419T122311Z
UID:24829-1709251200-1711929599@greatbritishpresenters.co.uk
SUMMARY:Ovarian Cancer Awareness Month AT GREAT BRITISH SPEAKERS
DESCRIPTION:Ovarian Cancer Awareness Month Speakers\nOvarian Cancer Awareness Month is held each year between March 1st and March 31st. Here at Great British Speakers\, we have a many female health speakers able to increase awareness around Ovarian cancer\, and support those living with it. \nOvarian Cancer is the UK’s most prevalent gynaecological disease\, with over 7\,500 cases a year as of 2022. But it’s important to note that over 11% of all cases can be prevented. Which is one of the reasons for Ovarian Cancer Awareness Month\, to ensure that everyone knows what symptoms to look out for so it can be caught early and successfully treated. \n  \nFind Inspirational Ovarian Cancer Awareness Speakers\nAt Great British Speakers\, we have accumulated a powerful team of professional ovarian cancer awareness month speakers. These include everyone from medical experts and cancer survivors\, all of whom have personal or professional reasons why cancer awareness is such a vital topic of conversation. So\, if you’re running an event and are looking for the best ovarian cancer\, health\, or wellness speaker\, Great British Speakers is here to help. \nClick HERE to see all of our Cancer Awareness speakers. \n  \nFeatured Ovarian Cancer Speakers \n   \n  \nDr Nighat Arif is a family GP specialising in women’s health.  Dr Nighat is confident in front of an audience and has hosted women’s health workshops and keynote speeches across the country.  A popular TV doctor\, her natural ability to connect with an audience has not gone unnoticed\, seeing her get regularly booked for talks on more sensitive subjects. \nDr Zoe Williams is a practicing NHS GP and media medical advisor\, with accolades such as being named on Pulse Power 50  as one of the country’s most influential GP’s. \nOutside of the surgery Zoe is a National Advisor for Public Health England and is a clinical advisor to the RCGP.  She is also a director and founding member of the British Society of Lifestyle Medicine and recently worked with Estee Lauder for their Breast Cancer Awareness Campaign. \nYomi Adegoke is an ambassador for the gynaecological cancer charity The Eve Appeal and often speaks at their events. As a multi-award-winning journalist\, presenter and social commentator\, Yomi is a popular speaker for festivals and prestigious panels events such as Guardian Fresh Voices\, The British Library and Intelligence Squared. \nContact us at Great British Speakers for a personalised shortlist of Cancer Awareness speakers for your event.\n\n\n\nLinks to Resources for Cancer Support \n\nOvarian Cancer Action\nMacmillan\nOvacome\nCancer Research\nTarget Ovarian Cancer\n\n  \nIf you’re holding an event and trying to find Ovarian Cancer Awareness Month Speakers to share their story\, or a medical expert to hold a talk on the symptoms to look out for\, then do get in touch with us at Great British Speakers by emailing Jane Farnham and Steve Denison at bookings@greatbritishtalent.com or call +44 1753 439 289 to speak to a member of the team.
URL:https://greatbritishpresenters.co.uk/event/ovarian-cancer-awareness-month-speakers-at-great-british-speakers/2024-03-01/
ATTACH;FMTTYPE=image/jpeg:https://greatbritish.b-cdn.net/wp-content//uploads/2024/02/Ovarian-Cancer-Awareness-month-speakers-at-agent-Great-British-Speakers.jpg
END:VEVENT
END:VCALENDAR