BEGIN:VCALENDAR
VERSION:2.0
PRODID:-//Great British UK Talent - Live - ECPv6.15.20//NONSGML v1.0//EN
CALSCALE:GREGORIAN
METHOD:PUBLISH
X-WR-CALNAME:Great British UK Talent - Live
X-ORIGINAL-URL:https://greatbritishpresenters.co.uk
X-WR-CALDESC:Events for Great British UK Talent - Live
REFRESH-INTERVAL;VALUE=DURATION:PT1H
X-Robots-Tag:noindex
X-PUBLISHED-TTL:PT1H
BEGIN:VTIMEZONE
TZID:UTC
BEGIN:STANDARD
TZOFFSETFROM:+0000
TZOFFSETTO:+0000
TZNAME:UTC
DTSTART:20220101T000000
END:STANDARD
END:VTIMEZONE
BEGIN:VEVENT
DTSTART;VALUE=DATE:20231114
DTEND;VALUE=DATE:20240201
DTSTAMP:20260423T101753
CREATED:20221105T174313Z
LAST-MODIFIED:20240419T104142Z
UID:17684-1699920000-1706745599@greatbritishpresenters.co.uk
SUMMARY:Christmas Party Entertainment at GREAT BRITISH SPEAKERS
DESCRIPTION:Corporate Christmas Party Entertainment – Entertainers & Hosts\nAre you ready to book the best Christmas corporate event you’ve ever been to…\nWe know that finding the perfect entertainer for your event can be difficult – especially with so many options to choose from. \nLuckily\, at Great British Speakers\, we only work with the crème de la crème of the entertainment world\, making the decision far easier for busy event planners like you. \nFrom engaging after-dinner speakers to magicians\, musicians or even celebrity guests\,  our corporate Christmas entertainers are a great way to motivate\, inspire and promote positivity! \nOr\, if you’re looking to award your team\, why not add a bit of Hollywood glamour and hold a very glitzy Christmas awards ceremony? \nWhat the prizes are is up to you\, but when it comes to hosting\, why not hire a presenter who will ensure your awards event is a night to remember for all the right reasons… \nAnd if you’re after a recognisable voice\, then you can now hire a Celebrity Voiceover with us too! \nSo\, if you’re hoping to give your audience something completely unique this festive season\, then hire one of the UK’s most magical entertainers in the business. \nThe Best Entertainment For Corporate Christmas Events 2022 | Great British Speakers \n \n  \nCorporate Christmas Entertainment | Similar Speakers Blogs \n\nFind the Best After Dinner Speakers\nFind a Virtual Speaker for Remote Celebrations\nHire a Celebrity Awards Host\nCelebrity Voiceovers\n\n  \nHire The Best Corporate Christmas Party Entertainment\nIf you’d like to book the best corporate Christmas Party Entertainment then do get in touch with Jane Farnham and Steve Denison on 0044 1753 439289 or email bookings@greatbritishtalent.com
URL:https://greatbritishpresenters.co.uk/event/christmas-party-entertainment/2023-11-14/
ATTACH;FMTTYPE=image/jpeg:https://greatbritish.b-cdn.net/wp-content//uploads/2022/11/Corporate-Christmas-Party-Entertainment-UK-find-the-best-hosts-bands-comedians-at-speaker-agent-Great-British-Speakers.jpg
END:VEVENT
BEGIN:VEVENT
DTSTART;VALUE=DATE:20231119
DTEND;VALUE=DATE:20231120
DTSTAMP:20260423T101753
CREATED:20221105T172536Z
LAST-MODIFIED:20240419T103756Z
UID:17681-1700352000-1700438399@greatbritishpresenters.co.uk
SUMMARY:International Mens Day speakers at GREAT BRITISH SPEAKERS
DESCRIPTION:Inspiring International Mens Day Speakers\nWhy Celebrate International Men’s Day?\nCoinciding with Movember\, International Men’s Day (IMD) – 19th November –International Men’s Day provides a platform to highlight men’s achievements and contributions to society\, while also addressing the challenges they face. This observance aims to promote positive male role models\, foster discussions on men’s health and well-being\, and encourage conversations about gender equality and inclusivity. \nBy recognising International Men’s Day\, we can create awareness and promote dialogue on issues that affect men in various aspects of life. It allows us to acknowledge their strengths\, embrace diversity\, and work towards creating a more equitable and supportive environment for all. Let us come together to celebrate the positive impact of men and address the issues that matter most to them on this significant occasion. \nWith ‘Toxic Masculinity‘ said to be one of the main reasons why men are less likely to seek medical advice\, International Men’s Day (IMD) aims to promote a different narrative. It seeks to empower men\, encouraging them to prioritize their well-being and feel assured when seeking support. By doing so\, IMD equips men with valuable tools to become positive role models for future generations\, fostering a healthier and more supportive environment for all. \nInternational Mens Day Facts!\n\nIn 2021\, 4\,704 men in England\, Wales and Scotland took their own lives\, roughly 13 a day\nMen make up ¾ of all deaths by suicide\nMen are twice as likely to be victims of violent crime\n95% of UK prisoners are male\n\nFind an International Mens Day Speakers – Our International Men’s Day Speakers are here to offer men guidance and support\, by providing an open space to discuss sensitive subjects\, such as mental health and wellbeing\, male-cancers/physical health\, relationships and fatherhood\, and gender and equality. The day is also in celebration of inspirational male role models\, many of whom have shown true resilience and overcome great adversities to get to where they are today. Plus\, it’s also an opportunity to appreciate male role models in business\, and the many men who have made fantastic achievements in history and modern-day society. \nIt’s probably unfair to hero just one of our Inspiring International Mens Day Speakers\, however\, Roman has probably created the greatest waves of late within the media to highlight the issues: \nFeatured Speaker – Roman Kemp | International Mens Day Speakers\nWhilst best known for being a radio DJ and TV presenter\, Roman Kemp’s work on male mental health\, depression\, anxiety and suicide is fast eclipsing his media career. In 2020\, his friend and colleague Joe Lyons took his own life after silently battling with mental health difficulties. Shocked by this\, Roman has made it his mission to ensure everyone – particularly men – is able to speak up about their problems and to seek help before it’s too late. He brought this to the mainstream through his BBC3 documentary Our Silent Emergency. \nSince this sad time\, Roman has spoken at universities\, and companies about male mental health and suicide\, and has teamed up with the mental health charity MIND to promote the importance of speaking out. \n \n  \n  \nInternational Mens Day Speakers | Similar Speakers\n\nOur top 15 Inspirational Men’s Day Speakers\nSpeaking Up on Men’s Mental Health – ‘Our Silent Emergency’ with Roman Kemp\n\n  \n“A Chat With…” Episodes with our International Mens Day Speakers | Podcast\n\nClive Branson | Overcoming Adversity\, Disability \nBen Smith | LGBTQ+ Anti-Bullying & Endurance\nAndrew Pain | Domestic Violence Isn’t Gendered\nAlex Staniforth | Mind Over Mountains Men’s Mental Health\nDave Walsh | World’s Strongest Disabled Man\nSteve Carr | ‘Losing Myself to Find Everything’ – Suicide Awareness\nWinston Ben Clements | Disability & Workplace Equality \n\n  \nLinks to Resources | International Mens Day Speakers and Support \n\nInternational Men’s Day\nContact ‘Mind’ – Mental Health Charity\n7 Ideas for Embracing International Men’s Day in Your Workplace\nWhy International Men’s Day is Important for Inclusive Cultures\nWhat can Employers do to Improve Men’s Health?\n\n  \nHire the best International Mens Day Speakers\nWith the worrying statistics on male self-harm and suicide\, it’s more vital than ever to ensure men are supported and they know that they don’t have to suffer in silence. If you are holding an event for International Men’s Day\, or just want to educate your staff\, then contact Great British Speakers Jane Farnham and Steve Denison at +44 1753 439 289 or email bookings@greatbritishtalent.com
URL:https://greatbritishpresenters.co.uk/event/international-mens-day-speakers/2023-11-19/
ATTACH;FMTTYPE=image/jpeg:https://greatbritish.b-cdn.net/wp-content//uploads/2022/11/International-Mens-Day-Speakers-UK-find-the-best-mens-health-at-speaker-agent-Great-British-Speakers.jpg
END:VEVENT
END:VCALENDAR