BEGIN:VCALENDAR
VERSION:2.0
PRODID:-//Great British UK Talent - Live - ECPv6.15.20//NONSGML v1.0//EN
CALSCALE:GREGORIAN
METHOD:PUBLISH
X-ORIGINAL-URL:https://greatbritishpresenters.co.uk
X-WR-CALDESC:Events for Great British UK Talent - Live
REFRESH-INTERVAL;VALUE=DURATION:PT1H
X-Robots-Tag:noindex
X-PUBLISHED-TTL:PT1H
BEGIN:VTIMEZONE
TZID:UTC
BEGIN:STANDARD
TZOFFSETFROM:+0000
TZOFFSETTO:+0000
TZNAME:UTC
DTSTART:20220101T000000
END:STANDARD
END:VTIMEZONE
BEGIN:VEVENT
DTSTART;VALUE=DATE:20230401
DTEND;VALUE=DATE:20230501
DTSTAMP:20260425T163950
CREATED:20221105T123329Z
LAST-MODIFIED:20240305T164813Z
UID:17627-1680307200-1682899199@greatbritishpresenters.co.uk
SUMMARY:Stress Awareness Month speakers at GREAT BRITISH SPEAKERS
DESCRIPTION:Speakers for Stress Awareness Month Speakers – find a Mental Health Speaker\nWhy is Stress Awareness Month so important?\nHeld every April\, Stress Awareness Month aims to make the causes and cures for stress mainstream conversation. Covering topics from loneliness\, community\, isolation and suicide\, Stress Awareness Month promotes the importance of talking to lower modern stress levels and increase personal and professional productivity. \nNot all stress is bad; a small amount can help motivate action and decrease procrastination. But too much of it can cause a negative headspace\, a lowering mood and an increased risk for your physical health\, affecting everything from your digestion to your sleep and your ability to fight off infections. \n  \nStress Awareness Month Facts!\nIt was reported that in 2022\, 74% of all UK adults felt so stressed that they have been unable to cope with everyday life. This is a shocking statistic\, but it is vital we keep these numbers in mind: \n\n32% of us think about work during our personal time\, increasing stress levels\n28% of us feel stress makes us less productive at work\nOver half of UK businesses have nothing in place to promote well-being in the workplace\n\n  \nBook an inspirational Mental Health keynote with our  Stress Awareness Month Speakers\nAt Great British Speakers\, we are proud to be working alongside a team of professional stress and well-being speakers who would be the perfect addition to your next stress awareness event. \nIt’s been reported that 65% of people have felt more stressed since the COVID pandemic thanks to a loss of control and increased uncertainty. Whilst the worst of the pandemic may be over\, its long-term effects are just getting started. \nSo\, if you’re running a stress awareness event or want to provide your staff with techniques to manage their own stress\, then the Great British Speakers team is here to help. \n  \nFeatured Speaker – Andrew Pain | One of our Stress Awareness Month speakers\nAndrew Pain’s experience as a domestic abuse survivor means he is a much-respected speaker on how external factors can increase levels of stress and decrease work productivity; from high levels of sick leave to workplace exhaustion\, Andrew is an expert on how to manage stress levels in your professional life. \nThis increase in stress levels can also increase the likelihood of professional Burnout.  Fortunately\, as a TEDx Mental Health advocate and an ICF-accredited coach Andrew has become pretty much an expert speaker on ‘Burnout’ – he knows what it really means to experience ‘Burnout’ and how to overcome the triggers. \nAnd within the workplace\, Andrew believes that workplace stress management and the prevention of ‘Burnout’ comes from those in charge. By having honest and open leaders\, other staff members will feel confident in approaching their own issues. It also makes for a safe workplace which\, in turn\, promotes productivity and increases success levels.  \n \n  \nStress Awareness Month Speakers  | Similar Speakers and Blogs  \n3 Ways To Reduce Stress in 5 Minutes – with Mindful Sales Speaker Anis Qizilbash \n \n  \nFind The Best Motivational Speakers For Stress Awareness Month 2023 \n \n  \nOther Stress Awareness Month Speakers and Related Articles\n\nHow to Prevent Work/Life Burnout with Leading Business Speaker Andrew Pain\nBeat Imposter Syndrome With A Leading Mental Health Speaker \nGoing M.A.D With Leadership Speaker Paul McGee\nResilience Speaker Penny Mallory – A Keynote Talk | Mental Toughness\nTop World Mental Health Speakers 2022\n\n  \n“A Chat With…” Episodes with our Stress Awareness Month Speakers | Podcast\n\nAndrew Pain | Domestic Abuse Survivor\, Inspirational Business Speaker \nAnis Qizilbash | Mindful Sales and Workplace Wellness\nAndrew McNeill | Mindful Leadership Speaker\n\n  \nLinks to Resources | Stress Awareness Month Support \n\nStress Awareness Month\nRecognising Workplace Stress\nApril is Stress Awareness Month – Here are five ways to help manage workplace stress\nLess Stressful Workplaces: What We Can All Do\n\n  \nHire the Best Motivational Stress Awareness Month Speakers\nWe’re fortunate that here at Great British Speakers we have a wide range of stress awareness speakers\, all experienced enough to help support you\, your business and your employees. To book a stress awareness month speaker\, contact Great British Speakers’ Jane Farnham and Steve Denison at +44 1753 439 289 or email bookings@greatbritishtalent.com
URL:https://greatbritishpresenters.co.uk/event/stress-awareness-month-speakers/
ATTACH;FMTTYPE=image/jpeg:https://greatbritish.b-cdn.net/wp-content//uploads/2022/11/Stress-awareness-month-find-the-best-speaker-at-agent-Great-British-Speakers.jpg
END:VEVENT
BEGIN:VEVENT
DTSTART;VALUE=DATE:20230428
DTEND;VALUE=DATE:20230505
DTSTAMP:20260425T163950
CREATED:20221105T124329Z
LAST-MODIFIED:20250226T145425Z
UID:17630-1682640000-1683244799@greatbritishpresenters.co.uk
SUMMARY:Multiple Sclerosis Awareness Week
DESCRIPTION:Why is it Important to Acknowledge Multiple Sclerosis (MS) Awareness Week?\n\n\n\nMultiple Sclerosis Awareness Week is held annually to increase awareness of the condition and unite those living with MS\, along with their supporters\, to share their experiences and break the silence surrounding it. \nIn recent years\, the campaign has focused on how MS impacts various aspects of daily life\, including employment\, relationships\, mental health\, sex\, and parenting. By highlighting real-life experiences and scientific research\, Multiple Sclerosis Awareness Week encourages open conversations about symptoms\, diagnosis\, and life with MS. \nWe estimate there are over 150\,000 people with MS in the UK\, and that nearly 7\,100 people are newly diagnosed each year.   – MS Society \n  \nFind an inspirational Multiple Sclerosis Week Speaker.\nAt Great British Speakers\, we work alongside some of the country’s most inspirational and motivational disability speakers. They all have personal and/or professional reasons why they believe disability is an important topic to discuss in the workplace and healthcare settings. \n  \nIntroducing Dave Walsh\n \nBeing a hands-on father to three young children and an aspiring strongman\, Dave Walsh’s life was turned upside down overnight. He went from climbing mountains in the British Army to being unable to climb the stairs after a diagnosis of Multiple Sclerosis. Although his ‘new normal’ is a far cry from his former life\, and the journey to get there has been fraught with mental health issues\, Dave is now a popular disability speaker our featured Multiple Sclerosis Awareness Week Speaker and was named the World’s Strongest Disabled Man 2022 and retained it and Britain’s Strongest Disabled man in 2023.  Learn more about Dave Walsh HERE. \n  \n\n\n\n\n\n\nRelated Articles…\n\n5 Steps to Build Confidence in Your Team Members by Motivational Speaker Dave Walsh\n\n  \nListen to the Podcast!\n \nWelcome to the Great British Speakers Podcast Series\, where we connect you with the UK’s top keynote speakers\, business leaders\, athletes\, mental health advocates\, and more. Each episode offers valuable insights and key takeaways\, highlighting the benefits of hiring a Great British Speaker for your next event. With diverse topics like mental health\, equality\, business\, and leadership\, there’s something for everyone. \n\n\n  \n\n\nLinks to Resources | Multiple Sclerosis Awareness Week Support\n\nWork and MS\nHow to Support an Employee with Multiple Sclerosis\nMS Trust – Working Life\n\n  \nHire a Multiple Sclerosis Awareness Week Speaker\nWith people living longer\, the number of people with MS is increasing\, and with no cure currently available\, we must continue to raise awareness in hopes of a cure.  It is essential for all industries\, particularly those in healthcare\, to be aware of Multiple Sclerosis and other disabilities and how they\, as an employer\, can support those living with it.  To book a Multiple Sclerosis Awareness Week speaker\, contact Great British Speakers Jane Farnham and Steve Denison at +44 1753 439 289 or email bookings@greatbritishtalent.com
URL:https://greatbritishpresenters.co.uk/event/multiple-sclerosis-awareness-week-speaker/2023-04-28/
ATTACH;FMTTYPE=image/jpeg:https://greatbritish.b-cdn.net/wp-content//uploads/2022/11/Multiple-Sclerosis-Awareness-Week-find-the-best-speaker-at-agent-Great-British-Speakers.jpg
END:VEVENT
END:VCALENDAR